BEGIN:VCALENDAR
VERSION:2.0
X-WR-CALNAME:FÉVRIER DES THÉÂTRES
PRODID:-//zimzamzum.eu ICS//EN
CALSCALE:GREGORIAN
METHOD:PUBLISH
BEGIN:VEVENT
DTSTART;VALUE=DATE:20150131T000000
DTEND;VALUE=DATE:20150221T235900
TRANSP:TRANSPARENT
SUMMARY:FÉVRIER DES THÉÂTRES
DESCRIPTION:LE SENS DU LUDIQUE\n\nComédie "pornographique et familiale" de Jean-Luc LEMOINE\njouée par Les Am'Acteurs\n\nBien que très amoureux l'un de l'autre\, Jean et Cécile éprouvent depuis quelques temps des difficultés avoir des rapports intimes épanouis. Après avoir essayé sans succès le sexologue\, les jeux érotiques et tout ce que la morale autorise le couple accepte\, sur les conseils d'un ami déluré\, de rencontrer une femme qui pourrait apporter la solution à tous les problèmes. Son domaine : le porno amateur. Cette femme à l'activité très insolite réussira-t-elle à leur faire retrouver le sens du ludique ? En tout cas\, cette soirée ne sera pas sans conséquence\, d'autant que des invités surprises viennent se mêler à cette rencontre surréaliste. Jean et Cécile avaient à gérer un problème\, maintenant ils doivent gérer une catastrophe.\n\nÀ Verny\, samedi 31/01/15 à 20h00\, salle Fabert - SOIRÉE D'OUVERTURE\nÀ Orny\, samedi 07/02/15 à 20h00\, salle des fêtes\n\nSI C'ÉTAIT À REFAIRE\n\nComédie hilarante de Laurent RUQUIER\njouée par Les Enfants du Paradis\n\nDans la clinique du Docteur Jouvence\, les femmes célèbres ou anonymes se bousculent pour se faire refaire le nez\, les seins\, la bouche ou les hanches... L'arrivée d'une nouvelle secrétaire et la jalousie de Madame Jouvence ne vont rien arranger au monde de la chirurgie esthétique. C'est alors que l'une des plus grandes cliniques parisiennes se transforme en jungle sauvage...\n\nÀ Verny\, dimanche 01/02/15 à 15h00\, salle Fabert \n\nÇA R'PART EN LIVE\n\nWeb délire de TGV Est et Félix LOBO\njoué par TGV Est\n\nConnaissez-vous le point commun entre le jardinier fou et l'informatique ? Et ben\, les deux plantent tout le temps. Quand il faut imprimer un document... plus d'encre ! Quand on doit envoyer un mail urgent... la pièce joindre ne veut plus se joindre ! Et quand on attend un technicien de maintenance de notre fournisseur d'accès Internet... il faut savoir prendre ce "mâle" en patience ! Alors... au quotidien... on fait avec. Mais imaginez-vous dirigeant une chaîne de télé qui diffuse ses programmes sur le Net un jour où tout se met à "déconnouiller" grave... Vous n'imaginez pas ?  Ben la TGV Est va le faire pour vous ! En rires\, chansons\, gags et pirouettes visuelles... \n\nÀ Orny\, dimanche 08/02/15 à 15h00\, salle des fêtes\n\nCHAT ET SOURIS\n\nComédie de boulevard de Ray COONEY \njouée par Théâtr' Ô Cité\n\nJean\, chauffeur de taxi\, mène une double vie méthodiquement organisée. Époux de Mathilde à Montreuil et de Charlotte à Ivry\, il alterne entre ses deux foyers dans éveiller de soupçons\, jusqu'au jour où ses deux enfants\, Alix et Guillaume\, qui ne se connaissent pas\, chattent sur Internet\, découvrent qu'ils ont de multiples points communs et décident de se rencontrer...  \n\nÀ Solgne\, samedi 07/02/15 à 20h00\, salle du Colombier\n\nSWEET SUMMER SWEAT\n\nComédie mouvementée de Laurent CONTAMIN \njouée par G2L\n\nSept séquences sur les relations homme-femme. Le fil conducteur : Lou et Franck. Différents âges\, différentes vies. Comédie drôle\, touchante et parfois décalée... Entre rencontres improbables\, retrouvailles émouvantes\, bilan de vie et de couple\, venez découvrir un kaléidoscope drôle et touchant...\n\nÀ Solgne\, dimanche 08/02/15 à 15h00\, salle du Colombier\n\nMAIS QU'EST-CE QU'ELLE FOUT LA MORT ?\n\nComédie  de Virgine VAN ACKER \njouée par le Théâtre de l'Ile en Joie\n\nQuand Cécile apprend que sa mère est sur le point de mourir elle prévient tout naturellement sa soeur avec qui elle entretient des relations épisodiques et conflictuelles. Nadine et son mari débarquent dont de Deauville pour assister à l'enterrement... seulement voilà\, maman ne meurt pas et les langues se délient... on ne choisit pas sa famille...\n\nÀ Béchy\, samedi 14/02/15 à 20h00\, salle du foyer socioéducatif\n\nCOUPLE OUVERT À DEUX BATTANTS\n\nComédie  jubilatoire de Dario FO et Franca RAME \njouée par la Compagnie Des Masques\, Des Voix\n\nL’ingénieur Mambretti propose à sa femme Antonia : « Formons un couple ouvert ! ». Pour lui\, ça veut dire qu’il est libre d’avoir autant d’aventures qu’il veut. Et il ne se gêne pas. Sa femme n’a qu’à en faire autant. Pour elle\, ça signifie que son mari la trompe à tour de bras. Et elle le vit mal. Elle tombe dans le désespoir\, fait plusieurs tentatives de suicide. Au bout du compte\, Antonia va se laisser convaincre. Elle va utiliser sa liberté et chercher des aventures de son côté également. Mais là où pour lui il s’agit de simples coucheries\, pour elle\, il va s’agir de vrais sentiments… Le retour de balancier ne va pas tarder.\n\nÀ Saint-Jure\, samedi 14/02/15 à 20h00\, salle des fêtes\nÀ Béchy\, dimanche 15/02/15 à 15h00\, salle du foyer socioéducatif\n\nI LOVE YOU\n\nComédie drôle et moderne de Virgnie VAN ACKER \njouée par le Globe Théâtre\n\nLes préparatifs d'un mariage... de la recherche du mari à la cérémonie\, en passant par l'essayage de LA robe et l'enterrement de vie de jeune fille. Une comédie drôle et émouvante sur l'amour et les "bonnes" copines!\n\nÀ Saint-Jure\, dimanche 15/02/15 à 15h00\, salle des fêtes
URL;VALUE=URI:http://zzz.lu/events/view/france/solgne/bechy-orny-saint-jure-solgne-et-verny/fEvrier-des-thEAtres
UID:http://zzz.lu/events/view/france/solgne/bechy-orny-saint-jure-solgne-et-verny/fEvrier-des-thEAtres
DTSTAMP:20150204T093727
LAST-MODIFIED:20150204T093752
CATEGORIES:Festivals
STATUS:
ORGANIZER;CN=renato:X-ADDR:http://zzz.lu/users/view/renato
LOCATION:Béchy\, Orny\, Saint-Jure\, Solgne et Verny\, Solgne. France
END:VEVENT
END:VCALENDAR
