BEGIN:VCALENDAR
VERSION:2.0
X-WR-CALNAME:Stage de Shiatsu
PRODID:-//zimzamzum.eu ICS//EN
CALSCALE:GREGORIAN
METHOD:PUBLISH
BEGIN:VEVENT
DTSTART;VALUE=DATE:20141207T130000
DTEND;VALUE=DATE:20141207T170000
TRANSP:TRANSPARENT
SUMMARY:Stage de Shiatsu
DESCRIPTION:Depuis 1985\, Eric Martin dirige l'Ecole française de Shiatsu. Il a commencé son apprentissage dans les années 70\, notamment auprès de Wataru Ohashi\, puis a participé aux stages de Maître Shizuto MASUNAGA aux Etats-Unis et en Europe. Il nous fera l'honneur de venir animer un stage dans nos locaux le dimanche 7 décembre 2014\, de 13h à 17h (accueil des participants à 12h30).\n\nCe stage est ouvert à tous\, du débutant au praticien confirmé\, élève de notre école ou personne extérieure! Attention\, le nombre de participants étant limité\, pensez à réserver assez tôt; et dans tous les cas au moins 8 jours avant la date de stage.\n\nLe tarif est fixé à 60 €\, dont 20 € d'arrhes pour la réservation\, le reste étant à régler sur place.\n\nPour tout renseignement ou pour réserver\, contactez-nous par mail à info@shiatsu-amneville.fr ou directement via notre formulaire de contact.
URL;VALUE=URI:http://zzz.lu/events/view/france/amneville/ecole-shiatsu-do/stage-de-shiatsu
UID:http://zzz.lu/events/view/france/amneville/ecole-shiatsu-do/stage-de-shiatsu
DTSTAMP:20141013T163954
LAST-MODIFIED:20141013T163954
CATEGORIES:Cours, stages et formations
STATUS:
ORGANIZER;CN=renato:X-ADDR:http://zzz.lu/users/view/renato
LOCATION:Palais des Sports\, rue Clémenceau\, Amnéville. France
END:VEVENT
END:VCALENDAR
