BEGIN:VCALENDAR
VERSION:2.0
X-WR-CALNAME:MOLIERE EN FANFARE - THEATRE SOUS LA PLUIE
PRODID:-//zimzamzum.eu ICS//EN
CALSCALE:GREGORIAN
METHOD:PUBLISH
BEGIN:VEVENT
DTSTART;VALUE=DATE:20150324T133000
DTEND;VALUE=DATE:20150324T133000
TRANSP:TRANSPARENT
SUMMARY:MOLIERE EN FANFARE - THEATRE SOUS LA PLUIE
DESCRIPTION:Voyage dans l'oeuvre de Molière montrant l'influence de la commedia dell'arte à travers quelques scènes célèbres tirées du "Médecin malgré lui"\, "le Bourgeois gentilhomme"\, "les Fourberies de Scapin"\, l'Avare".\nMaquillage et changement de costumes à vue sont ponctués par des interpellations du public avec des commentaires remplis d'humour.
URL;VALUE=URI:http://zzz.lu/events/view/france/strasbourg/salle-municipale-3/moliere-en-fanfare-theatre-sous-la-pluie-8
UID:http://zzz.lu/events/view/france/strasbourg/salle-municipale-3/moliere-en-fanfare-theatre-sous-la-pluie-8
DTSTAMP:20150129T152628
LAST-MODIFIED:20150129T162345
CATEGORIES:Théâtre
STATUS:
ORGANIZER;CN=TSP57:X-ADDR:http://zzz.lu/users/view/tsp57
LOCATION:Salle municipale\, Strasbourg. France
END:VEVENT
END:VCALENDAR
