BEGIN:VCALENDAR
VERSION:2.0
X-WR-CALNAME:Stage clown et relaxation
PRODID:-//zimzamzum.eu ICS//EN
CALSCALE:GREGORIAN
METHOD:PUBLISH
BEGIN:VEVENT
DTSTART;VALUE=DATE:20161020T000000
DTEND;VALUE=DATE:20170412T235900
TRANSP:TRANSPARENT
SUMMARY:Stage clown et relaxation
DESCRIPTION:STAGES \nCLOWN et RELAXATION \nPour Adultes\n\nA ANCY SUR MOSELLE (57)\nDu vendredi 11 au dimanche 13 novembre 2016 (3 jours)\nSamedi 4 et dimanche 5 février 2017 (2 jours)\n\nA MOYENMOUTIER (88)\nDu jeudi 20 au lundi 24 octobre 2016 (5 jours)\nDu samedi 8 avril au mercredi 12 avril 2017 (5 jours)\n\nN'attendez pas pour vous inscrire !\n\nLe clown en mouvement\n\nLe clown est un personnage authentique doté d'une grande générosité envers lui-même et les autres. \nIl s'imprègne de l'instant présent. Il est l'instant présent. \nSes désirs agissent directement et prennent possession de son corps. \nAvec plaisir et liberté\, chaque moment est abandon de soi et surprise. \n\nC'est bien beau mais qu'est-ce qu'on va faire ?\n\nRien ... lâcher\, relâcher\, respirer\, ouvrir\, écouter sa petite danse\, sentir\, ressentire\, s'émouvoir\, se mouvoir\, suivre ses pieds\, amplifier\, jouer\, rebondir\, physiquer\, turbuler les turbulences à l'infini et au delà. \n\nToute une gamme de mouvements\, d'émotions\, d'états et de clowns. \n\n\nAvec \n\nCaroline Touchette\, Relaxologue et praticienne en massage bien-être.\n\nOriginaire du Québec\, elle a étudié la psychologie à Montréal. Ayant immigré en Lorraine il y a 16 ans\, elle a décidé d'approfondir sa connaissance de l'humain et s'est inscrite dans une école de relaxation où elle a obtenu un certificat de relaxologue. Depuis\, elle est intervenante d'ateliers relaxation dans différentes structures. Elle travaille aussi bien avec les enfants\, les adultes\, que les personnes âgées...\n\nParallèlement\, elle acquiers un certificat de praticienne en massage bien-être à l'école « Elementerre \n ». C'est à ce moment\, qu'elle a crée "Comme un Baume".\n\nElle continue à se former à l'école ARTEC à Paris pour l'acquisition de nouvelles techniques de massage. Elle est également titulaire d'un certificat de Qi Gong thérapeutique de l'Institut Ming Men à Nancy.\n\nwww.commeunbaume.fr \n\nBruno Salvador : Clown\, Comédien\, Danseur\, Agrégat de quarks\, d'électrons et de vide en mouvements. \n\nSa curiosité et son goût pour l'expérimentation l'ont amené à explorer différentes disciplines... Titulaire d'un diplôme d'ingenieur (2000) et d'un Doctorat (2004) en Génie Chimique. Il se forme au clown contemporain depuis 2002.Il effectue des stages de théâtre d'objet et de théâtre d'ombre. Il explore le théâtre physique et la pédagogie Jacques Lecoq à l’école «Estudis de Teatre » à Barcelone en 2005.\n\nDepuis une dizaine d'années\, il explore de nouvelles frontières corporelles en pratiquant la danse butô\, la danse contact et la chorésophie. Il a expérimenté l'improvisation vocale de 2000 à 2005.\n\nEn 2006 il intègre la compagnie Le Rire Médecin\, et intervient régulièrement comme clown à l'hopital d'enfants de Nancy.Il crée la Cie Collaps'Art en 2006 ainsi que plusieurs spectacles clownesques : The Luigi Végas Spettacolo\, Big Bang dans un cerveau\, Les Mystères du sol. Depuis 2000\, il collabore avec plusieurs autres compagnies comme clown\, comédien\, marionnettiste ou danseur : Cie Nez à nez (Epinal)\, Cie des Ombres (Genève)\, Cie Sosana Marcelino (Nancy)\, Cie de l’Idiot (Nancy)\, Globe Jinen Butoh (Paris-Japon)\, Cie Histoires d'Eux (Nancy)\, Cie Man'Ok (Manoncourt en Woëvre).\n\nIl anime également des formations au clown contemporain pour adultes depuis 2005.\nhttp://collapsart.fr/ \n\n\n\n\nINFORMATIONS STAGES DE 2&3 JOURS :\nLieu : Salle de jeux de l'école maternelle\, 3 rue des jardins à Ancy-sur-Moselle (57)\nHoraires : 10h-18h\nEffectif : 12 personnes maximum\nTarif : 100 euros (2 jours) / 150 euros (3 jours) + 15 euros d'adhésion annuelle à l'association L'Ouvre-Boîtes \n\n\nINFORMATIONS STAGE DE 5 JOURS :\nLieu : Ecogite St Prayel à MoyenMoutier (88)\nEffectif : 12 personnes maximum\nTarif : 230 euros pour les 5 jours (possibilité de paiement en plusieurs fois)\n+ frais de repas 50 euros + frais d'hébergement 110 euros \n+ 15 euros d'adhésion annuelle à l'association L'Ouvre-Boîtes.\n\n\nRESERVATION OBLIGATOIRE\n\nCONTACT :\nAssociation L'Ouvre-Boîtes\nEstelle au 06.82.09.91.37 ou par mail à estelle@louvreboites.fr
URL;VALUE=URI:http://zzz.lu/events/view/france/ancy-sur-moselle/ecole-maternelle-ancy-sur-moselle/stage-clown-et-relaxation_0
UID:http://zzz.lu/events/view/france/ancy-sur-moselle/ecole-maternelle-ancy-sur-moselle/stage-clown-et-relaxation_0
DTSTAMP:20160830T160010
LAST-MODIFIED:20160830T160105
CATEGORIES:Cours, stages et formations
STATUS:
ORGANIZER;CN=Association LOuvreBoites:X-ADDR:http://zzz.lu/users/view/association_louvreboites
LOCATION:3 rue des jardins\, Ancy-sur-moselle. France
END:VEVENT
END:VCALENDAR
