BEGIN:VCALENDAR
VERSION:2.0
X-WR-CALNAME:Contes de clowns
PRODID:-//zimzamzum.eu ICS//EN
CALSCALE:GREGORIAN
METHOD:PUBLISH
BEGIN:VEVENT
DTSTART;VALUE=DATE:20160702T000000
DTEND;VALUE=DATE:20160703T235900
TRANSP:TRANSPARENT
SUMMARY:Contes de clowns
DESCRIPTION:“Contes de clowns”\nest un stage Clown Contact\, organisé par le Collectif Effet Papillon\, animé par Caroline Mangin. Il est axé sur la recherche du personnage du clown et sa rencontre avec nos récits de vie. Il propose d’explorer comment le clown va nous permettre de transformer\, grâce à des passerelles vers l’imaginaire\, des évènements\, souvenirs que l’on a parfois du mal à exprimer et qui pourtant peuvent freiner notre évolution. Le clown\, poète de l’instant\, va se nourrir de ces moments de vie pour en faire des contes “extra”-ordinaires.\nCe stage aura lieu le week-end des 2 & 3 juillet 2016 à Seynod\, près d’Annecy (74). Il s’adresse à toute personne qui souhaite s’enrichir d’une nouvelle expérience artistique\, renouer avec son âme d’enfant grâce au clown que chacun porte en soi. Les débutants sont les bienvenus.\nSeuls prérequis : l’envie de jouer\, de pétiller…Deux journées riches en découvertes et en émotions à ne pas manquer !\nLieu : Théâtre Le Labo – Espace Art Forme Santé 2 rue de la Césière – 74600 Seynod\nHoraires : samedi de 14 h à 20 h (accueil à 13 h 30) et dimanche de 10 h à 17 h 30 (accueil à 9 h 30 pour le café)\nPlus d’Informations et Réservation : collectifeffetpapillon@gmail.com\nBulletin d’inscription envoyé sur demande\n
URL;VALUE=URI:http://zzz.lu/events/view/france/seynod/theatre-le-labo/contes-de-clowns-a-annecy-seynod-les-2-3-juillet_0
UID:http://zzz.lu/events/view/france/seynod/theatre-le-labo/contes-de-clowns-a-annecy-seynod-les-2-3-juillet_0
DTSTAMP:20160606T230849
LAST-MODIFIED:20160606T230852
CATEGORIES:Cinéma, Audiovisuel
STATUS:
ORGANIZER;CN=renato:X-ADDR:http://zzz.lu/users/view/renato
LOCATION:2 rue de la Césière\, Seynod. France
END:VEVENT
END:VCALENDAR
