BEGIN:VCALENDAR
VERSION:2.0
X-WR-CALNAME:test
PRODID:-//zimzamzum.eu ICS//EN
CALSCALE:GREGORIAN
METHOD:PUBLISH
BEGIN:VEVENT
DTSTART;VALUE=DATE:20180404T195900
DTEND;VALUE=DATE:20180404T195900
TRANSP:TRANSPARENT
SUMMARY:test
DESCRIPTION:test
URL;VALUE=URI:http://zzz.lu/events/view/france/amneville/ecole-shiatsu-do/test-test_0
UID:http://zzz.lu/events/view/france/amneville/ecole-shiatsu-do/test-test_0
DTSTAMP:20180404T195944
LAST-MODIFIED:20180404T195947
CATEGORIES:Cinéma, Audiovisuel
STATUS:
ORGANIZER;CN=renato:X-ADDR:http://zzz.lu/users/view/renato
LOCATION:Palais des Sports\, rue Clémenceau\, Amnéville. France
END:VEVENT
END:VCALENDAR
