BEGIN:VCALENDAR
VERSION:2.0
X-WR-CALNAME:L'objet du clown
PRODID:-//zimzamzum.eu ICS//EN
CALSCALE:GREGORIAN
METHOD:PUBLISH
BEGIN:VEVENT
DTSTART;VALUE=DATE:20141213T100000
DTEND;VALUE=DATE:20141214T180000
TRANSP:TRANSPARENT
SUMMARY:L'objet du clown
DESCRIPTION:La saison 2014/2015 de clown reprend à Strasbourg ! Une occasion pour ceux et celles qui désirent découvrir ou revisiter leur clown de s'activer\, d'expérimenter !\n\nPour cette nouvelle saison\, un cycle de 4 stages est proposé. \n2 intervenants nous feront découvrir le clown à travers leur prisme : François Small dit Smoll et Mathilde Vittorelli. \n\nCette série de stages\, nous l'espérons\, permettra à chacun de faire progresser son clown et de créer une travail continu sur l'année... De quoi faire éclore solos\, duos\, familles d'Augustes\, Clowns blancs\, clowns tout longs\, tout courts\, etc...\n\nLa première session verra le jour sous la houlette de François Small le 13 et 14 décembre 2014. Il vous en touche deux mots ou plus :\n" Le but de mon intervention n'est pas de transmettre des recettes clownesques\, mais de faire partager un savoir faire et de développer l'imagination de chacun\, clownifier le quotidien\, c'est partir de situations banales et en faire naître l'insolite et l'absurde. L'objet clownesque n'existe que détourné de sa fonction première\, quand l'imaginaire s'en empare pour le faire exister autrement ; L'acteur clown devra chercher en lui à partir de son corps et de sa voix tout ce qui peut paraître comme drôle\, naïf\, cruel\, émouvant\, poétique et tic et tic et etc. Bref ! Il faut d'abord rire de soi même avant de rire des autres. A bientôt ! Clownesquement\, Smol. " \n\nInformations pratiques:\n- 13 et 14 décembre 2014 (François Small)\n- 10 et 11 janvier 2015 (François Small)\n- 11 et 12 avril 2015 (Mathilde Vittorelli)\n- 9 et 10 mai 2015 (Mathilde Vittorelli)\n\nLes horaires : 10h - 18h / Le lieu : à Strasbourg\, 7 avenue de la Forêt Noire à Strasbourg à l’AUP\n\nTarif normal : 80 euros\nTarif réduit (chômeur\, étudiant) : 70 euros\n+ 10 euros d'adhésion à l'association. \n\nSi vous avez déjà les yeux qui brillent et souhaitez vous inscrire pour le 1er stage du mois de décembre\, à Strasbourg\, faites le au plus vite en contactant Fabienne par téléphone ou par mail. Elle vous expliquera la marche à suivre et prendra compte de votre inscription. \n\nFabienne au 06.83.54.86.76 ou par mail à hoplaclown@gmail.com \n\nEt si vous voulez nous faire connaître\, parlez-en autour de vous !\n\nAu plaisir de vous voir et revoir\, \n\nL'équipe du cycle hoplaclown\n\nLes Portes Vives\n\nContact du cycle hoplaclown\nFabienne: 06 83 54 86 76\nhoplaclown@gmail.com \n\nContact Les Portes Vives\nEstelle: o6.82.o9.91.37\nlesportesvives@gmail.com\n\n-- \nEstelle Brochard\nAssociation Les Portes Vives\n13 rue St Vincent 57160 Scy Chazelles\nlesportesvives@gmail.com\n06.82.09.91.37\nwww.lesportesvives.com\nAssociation adhérente à la FOL57\, au CITI et à l'Atelier des Traverses. \n\nProchains évènements à venir : \n* Du 8 au 11 novembre\, Stage clown et relaxation\, Bure (55)\n* Mardi 25 novembre\, Ouvrage du fou\, MCL Metz (57)\n* Samedi 29 novembre\, Atelier clown\, ASLV (54)\n* Samedi 13 décembre\, Atelier clown\, ASLV (54)\n* 13 et 14 décembre\, Stage "l'objet du clown"\, Strasbourg (67)\n\n"Les portes de l'avenir sont ouvertes à ceux qui savent les pousser" Coluche
URL;VALUE=URI:http://zzz.lu/events/view/france/strasbourg/aup-strasbourg-fr/l-objet-du-clown
UID:http://zzz.lu/events/view/france/strasbourg/aup-strasbourg-fr/l-objet-du-clown
DTSTAMP:20141121T115203
LAST-MODIFIED:20141121T115203
CATEGORIES:Salons
STATUS:
ORGANIZER;CN=renato:X-ADDR:http://zzz.lu/users/view/renato
LOCATION:7 avenue de la Forêt Noire\, Strasbourg. France
END:VEVENT
END:VCALENDAR
